BEGIN:VCALENDAR
VERSION:2.0
PRODID:-//MCKiE DOM HARCERZA - ECPv6.15.20//NONSGML v1.0//EN
CALSCALE:GREGORIAN
METHOD:PUBLISH
X-WR-CALNAME:MCKiE DOM HARCERZA
X-ORIGINAL-URL:https://www.mdk-zgora.pl
X-WR-CALDESC:Wydarzenia dla MCKiE DOM HARCERZA
REFRESH-INTERVAL;VALUE=DURATION:PT1H
X-Robots-Tag:noindex
X-PUBLISHED-TTL:PT1H
BEGIN:VTIMEZONE
TZID:Europe/Warsaw
BEGIN:DAYLIGHT
TZOFFSETFROM:+0100
TZOFFSETTO:+0200
TZNAME:CEST
DTSTART:20180325T010000
END:DAYLIGHT
BEGIN:STANDARD
TZOFFSETFROM:+0200
TZOFFSETTO:+0100
TZNAME:CET
DTSTART:20181028T010000
END:STANDARD
BEGIN:DAYLIGHT
TZOFFSETFROM:+0100
TZOFFSETTO:+0200
TZNAME:CEST
DTSTART:20190331T010000
END:DAYLIGHT
BEGIN:STANDARD
TZOFFSETFROM:+0200
TZOFFSETTO:+0100
TZNAME:CET
DTSTART:20191027T010000
END:STANDARD
BEGIN:DAYLIGHT
TZOFFSETFROM:+0100
TZOFFSETTO:+0200
TZNAME:CEST
DTSTART:20200329T010000
END:DAYLIGHT
BEGIN:STANDARD
TZOFFSETFROM:+0200
TZOFFSETTO:+0100
TZNAME:CET
DTSTART:20201025T010000
END:STANDARD
END:VTIMEZONE
BEGIN:VEVENT
DTSTART;TZID=Europe/Warsaw:20191002T080000
DTEND;TZID=Europe/Warsaw:20191004T170000
DTSTAMP:20260423T155341
CREATED:20190508T154013Z
LAST-MODIFIED:20191002T092929Z
UID:3713-1570003200-1570208400@www.mdk-zgora.pl
SUMMARY:XXVI Ogólnopolski Sejmik Placówek Wychowania Pozaszkolnego
DESCRIPTION:
URL:https://www.mdk-zgora.pl/wydarzenie/xxvi-ogolnopolski-sejmik-placowek-wychowania-pozaszkolnego/
CATEGORIES:Scena
END:VEVENT
BEGIN:VEVENT
DTSTART;TZID=Europe/Warsaw:20190701T100000
DTEND;TZID=Europe/Warsaw:20190823T140000
DTSTAMP:20260423T155341
CREATED:20190529T125140Z
LAST-MODIFIED:20190529T125140Z
UID:4510-1561975200-1566568800@www.mdk-zgora.pl
SUMMARY:Wakacje 2019
DESCRIPTION:Rozpoczęcie wakacji w MCKiE „Dom Harcerza”
URL:https://www.mdk-zgora.pl/wydarzenie/wakacje-2019/
CATEGORIES:Kalendarz imprez
END:VEVENT
BEGIN:VEVENT
DTSTART;TZID=Europe/Warsaw:20190615T080000
DTEND;TZID=Europe/Warsaw:20190615T170000
DTSTAMP:20260423T155341
CREATED:20190508T154112Z
LAST-MODIFIED:20190522T122859Z
UID:3720-1560585600-1560618000@www.mdk-zgora.pl
SUMMARY:Studio Piosenki „Rezonans”
DESCRIPTION:
URL:https://www.mdk-zgora.pl/wydarzenie/studio-piosenki-rezonans/
CATEGORIES:Scena
END:VEVENT
BEGIN:VEVENT
DTSTART;TZID=Europe/Warsaw:20190614T170000
DTEND;TZID=Europe/Warsaw:20190614T170000
DTSTAMP:20260423T155341
CREATED:20190527T110225Z
LAST-MODIFIED:20190527T110225Z
UID:4313-1560531600-1560531600@www.mdk-zgora.pl
SUMMARY:Koncert Studio Piosenki „Rezonans”
DESCRIPTION:
URL:https://www.mdk-zgora.pl/wydarzenie/koncert-studio-piosenki-rezonans/
CATEGORIES:Scena
END:VEVENT
BEGIN:VEVENT
DTSTART;TZID=Europe/Warsaw:20190613T163000
DTEND;TZID=Europe/Warsaw:20190613T163000
DTSTAMP:20260423T155341
CREATED:20190527T110347Z
LAST-MODIFIED:20190527T110347Z
UID:4315-1560443400-1560443400@www.mdk-zgora.pl
SUMMARY:Polirytmia - koncert
DESCRIPTION:Polirytmia godz. 16:30 – próba II akustyczna 18:00 – Koncert
URL:https://www.mdk-zgora.pl/wydarzenie/polirytmia-koncert/
CATEGORIES:Scena
END:VEVENT
BEGIN:VEVENT
DTSTART;TZID=Europe/Warsaw:20190612T180000
DTEND;TZID=Europe/Warsaw:20190612T203000
DTSTAMP:20260423T155341
CREATED:20190527T110431Z
LAST-MODIFIED:20190527T110431Z
UID:4317-1560362400-1560371400@www.mdk-zgora.pl
SUMMARY:Polirytmia - próba generalna
DESCRIPTION:Polirytmia godz. 18:00-20:30 – próba generalna
URL:https://www.mdk-zgora.pl/wydarzenie/polirytmia-proba-generalna/
CATEGORIES:Scena
END:VEVENT
BEGIN:VEVENT
DTSTART;VALUE=DATE:20190607
DTEND;VALUE=DATE:20190609
DTSTAMP:20260423T155341
CREATED:20190527T110139Z
LAST-MODIFIED:20190527T110139Z
UID:4311-1559865600-1560038399@www.mdk-zgora.pl
SUMMARY:Studio Piosenki „Rezonans”
DESCRIPTION:
URL:https://www.mdk-zgora.pl/wydarzenie/studio-piosenki-rezonans-2/
CATEGORIES:Scena
END:VEVENT
BEGIN:VEVENT
DTSTART;TZID=Europe/Warsaw:20190606T080000
DTEND;TZID=Europe/Warsaw:20190606T170000
DTSTAMP:20260423T155341
CREATED:20180626T080341Z
LAST-MODIFIED:20190606T080808Z
UID:5362-1559808000-1559840400@www.mdk-zgora.pl
SUMMARY:Warsztaty Polsko-Niemieckie
DESCRIPTION:W dniach 21\, 22\,23 czerwca w Młodzieżowym Centrum Kultury i Edukacji Dom Harcerza w  Zielonej Górze organizowaliśmy warsztaty polsko- niemieckie. Po raz kolejny gościliśmy młodzież z zaprzyjaźnionego miasta Zittau\, która pod okiem moderatorów pracowała wraz z młodzieżą z naszej placówki. Tematem przewodnim warsztatów było wykonanie lalek teatralnych\, które stały się inspiracją do wspólnej pracy nad spektaklem. Młodzież pracowała w trzech pracowniach: plastycznej\, krawieckiej i\nteatralnej. Celem projektu była integracja młodzieży polskiej i niemieckiej we wspólnych działaniach\, komunikowaniu się\, otwieranie na nowe doświadczenia\, jak również nabywanie nowych umiejętności. Młodzież poznała techniki wykonania lalek teatralnych\, rzeźby w styrodurze\, oklejanie form przestrzennych masą papierową\, tworzenie małych form za pomocą masy plastycznej\, proste projektowanie stroju\, szycie na maszynie\, animacja lalek i wspólne tworzenie spektaklu. Dodatkowymi atrakcjami było wspólne spotkanie i gra w kręgielni\, odwiedzenie Centrum Nauki Keplera i projekcja filmu\, obejrzenie wystawy prac plastycznych w Instytucie Sztuk Wizualnych w Zielonej Górze\, jak również spacer po Zielonej Górze.\n\nProjekt jest współfinansowany ze środków Europejskiego Funduszu Rozwoju Regionalnego oraz ze środków budżetu państwa w ramach Programu Współpracy INTERREG Polska-Saksonia 2014-2020
URL:https://www.mdk-zgora.pl/wydarzenie/warsztaty-polsko-niemieckie/
CATEGORIES:Kalendarz imprez
END:VEVENT
BEGIN:VEVENT
DTSTART;VALUE=DATE:20190604
DTEND;VALUE=DATE:20190605
DTSTAMP:20260423T155341
CREATED:20190527T122152Z
LAST-MODIFIED:20190527T122152Z
UID:4321-1559606400-1559692799@www.mdk-zgora.pl
SUMMARY:Turniej „wiem jak być zdrowym i bezpiecznym” dla klas III SP
DESCRIPTION:
URL:https://www.mdk-zgora.pl/wydarzenie/turniej-wiem-jak-byc-zdrowym-i-bezpiecznym-dla-klas-iii-sp/
END:VEVENT
BEGIN:VEVENT
DTSTART;TZID=Europe/Warsaw:20190601T110000
DTEND;TZID=Europe/Warsaw:20190601T140000
DTSTAMP:20260423T155341
CREATED:20190528T092802Z
LAST-MODIFIED:20190601T153215Z
UID:4372-1559386800-1559397600@www.mdk-zgora.pl
SUMMARY:Dzień dziecka w "Domu Harcerza"
DESCRIPTION:Dzień dziecka w „Domu Harcerza”\n1 czerwca od 11:00 przy Wyszyńskiego 19 a i 17 c w Zielonej Górze \nW programie – warsztaty kulinarne\, modelarskie i plastyczne\nPokaz szkółki jazdy na motorowerze\nBańki mydlane i stoiska z pracami\nOgnisko z kiełbaskami i turniej szachowy oraz wiele innych atrakcji.\nZapraszamy rodziców z dziećmi. \n 
URL:https://www.mdk-zgora.pl/wydarzenie/dzien-dziecka-w-domu-harcerza/
CATEGORIES:Kalendarz imprez
ATTACH;FMTTYPE=image/jpeg:https://www.mdk-zgora.pl/wp-content/uploads/2019/05/Dzień-Dziecka.jpg
END:VEVENT
BEGIN:VEVENT
DTSTART;VALUE=DATE:20190525
DTEND;VALUE=DATE:20190526
DTSTAMP:20260423T155342
CREATED:20190527T110510Z
LAST-MODIFIED:20190527T110510Z
UID:4319-1558742400-1558828799@www.mdk-zgora.pl
SUMMARY:Studio Piosenki „Rezonans”
DESCRIPTION:Studio Piosenki „Rezonans” – aula / Festyn w parafii św. Józefa występy
URL:https://www.mdk-zgora.pl/wydarzenie/studio-piosenki-rezonans-3/
CATEGORIES:Scena
END:VEVENT
END:VCALENDAR