BEGIN:VCALENDAR
VERSION:2.0
PRODID:-//MCKiE DOM HARCERZA - ECPv6.15.20//NONSGML v1.0//EN
CALSCALE:GREGORIAN
METHOD:PUBLISH
X-WR-CALNAME:MCKiE DOM HARCERZA
X-ORIGINAL-URL:https://www.mdk-zgora.pl
X-WR-CALDESC:Wydarzenia dla MCKiE DOM HARCERZA
REFRESH-INTERVAL;VALUE=DURATION:PT1H
X-Robots-Tag:noindex
X-PUBLISHED-TTL:PT1H
BEGIN:VTIMEZONE
TZID:Europe/Warsaw
BEGIN:DAYLIGHT
TZOFFSETFROM:+0100
TZOFFSETTO:+0200
TZNAME:CEST
DTSTART:20180325T010000
END:DAYLIGHT
BEGIN:STANDARD
TZOFFSETFROM:+0200
TZOFFSETTO:+0100
TZNAME:CET
DTSTART:20181028T010000
END:STANDARD
BEGIN:DAYLIGHT
TZOFFSETFROM:+0100
TZOFFSETTO:+0200
TZNAME:CEST
DTSTART:20190331T010000
END:DAYLIGHT
BEGIN:STANDARD
TZOFFSETFROM:+0200
TZOFFSETTO:+0100
TZNAME:CET
DTSTART:20191027T010000
END:STANDARD
BEGIN:DAYLIGHT
TZOFFSETFROM:+0100
TZOFFSETTO:+0200
TZNAME:CEST
DTSTART:20200329T010000
END:DAYLIGHT
BEGIN:STANDARD
TZOFFSETFROM:+0200
TZOFFSETTO:+0100
TZNAME:CET
DTSTART:20201025T010000
END:STANDARD
BEGIN:DAYLIGHT
TZOFFSETFROM:+0100
TZOFFSETTO:+0200
TZNAME:CEST
DTSTART:20210328T010000
END:DAYLIGHT
BEGIN:STANDARD
TZOFFSETFROM:+0200
TZOFFSETTO:+0100
TZNAME:CET
DTSTART:20211031T010000
END:STANDARD
BEGIN:DAYLIGHT
TZOFFSETFROM:+0100
TZOFFSETTO:+0200
TZNAME:CEST
DTSTART:20220327T010000
END:DAYLIGHT
BEGIN:STANDARD
TZOFFSETFROM:+0200
TZOFFSETTO:+0100
TZNAME:CET
DTSTART:20221030T010000
END:STANDARD
BEGIN:DAYLIGHT
TZOFFSETFROM:+0100
TZOFFSETTO:+0200
TZNAME:CEST
DTSTART:20230326T010000
END:DAYLIGHT
BEGIN:STANDARD
TZOFFSETFROM:+0200
TZOFFSETTO:+0100
TZNAME:CET
DTSTART:20231029T010000
END:STANDARD
END:VTIMEZONE
BEGIN:VEVENT
DTSTART;TZID=Europe/Warsaw:20220425T180000
DTEND;TZID=Europe/Warsaw:20220425T180000
DTSTAMP:20260423T141306
CREATED:20220424T111745Z
LAST-MODIFIED:20220424T113712Z
UID:11376-1650909600-1650909600@www.mdk-zgora.pl
SUMMARY:PIĄTE….NIE ZABIJAJ !- ZAPRASZAMY NA SPEKATKL
DESCRIPTION:PIĄTE….NIE ZABIJAJ !- ZAPRASZAMY NA SPEKTKL \nDnia 25 kwietnia o godzinie 18.00 na scenie MCKiE „Dom Harcerza” wystąpi teatr „Chlebojady” \nSpektakl „Zabiłem Ciotkę” na podstawie prozy Andrzeja Bursy\,  to czarna komedia z elementami absurdu. \n„Wskrzesić czas\, obudzić się\, przejrzeć\, aż wreszcie sprawdzić\, czy czasem w nas nie mieszka cząstka Cioci\, bądź Jureczka… ?” \nZapraszamy serdecznie teatr „Chlebojady”
URL:https://www.mdk-zgora.pl/wydarzenie/piate-nie-zabijaj-zapraszamy-na-spekatkl/
CATEGORIES:Kalendarz imprez,Scena
END:VEVENT
BEGIN:VEVENT
DTSTART;VALUE=DATE:20211105
DTEND;VALUE=DATE:20211106
DTSTAMP:20260423T141306
CREATED:20211104T075916Z
LAST-MODIFIED:20211104T075916Z
UID:10532-1636070400-1636156799@www.mdk-zgora.pl
SUMMARY:Przegląd Powiatowy do Lubuskiej Gali Tanecznej PRO ARTE 2021
DESCRIPTION:Przegląd Powiatowy do Lubuskiej Gali Tanecznej PRO ARTE 2021
URL:https://www.mdk-zgora.pl/wydarzenie/przeglad-powiatowy-do-lubuskiej-gali-tanecznej-pro-arte-2021/
CATEGORIES:Kalendarz imprez,Scena
END:VEVENT
BEGIN:VEVENT
DTSTART;TZID=Europe/Warsaw:20211029T190000
DTEND;TZID=Europe/Warsaw:20211029T220000
DTSTAMP:20260423T141306
CREATED:20211027T101516Z
LAST-MODIFIED:20211027T101655Z
UID:10488-1635534000-1635544800@www.mdk-zgora.pl
SUMMARY:Monodram pt. „Tereska” w wykonaniu Marii Mędryk
DESCRIPTION:Monodram pt. „Tereska” w wykonaniu Marii Mędryk w auli w MCKiE „Dom Harcerza” | MCKiE DOM HARCERZA (mdk-zgora.pl)
URL:https://www.mdk-zgora.pl/wydarzenie/monodram-pt-tereska-w-wykonaniu-marii-medryk/
CATEGORIES:Kalendarz imprez,Scena
END:VEVENT
BEGIN:VEVENT
DTSTART;VALUE=DATE:20210926
DTEND;VALUE=DATE:20210927
DTSTAMP:20260423T141306
CREATED:20210921T082616Z
LAST-MODIFIED:20210921T082616Z
UID:10060-1632614400-1632700799@www.mdk-zgora.pl
SUMMARY:Festyn w Książu Śląskim - występy Studia Piosenki "Rezonans"
DESCRIPTION:
URL:https://www.mdk-zgora.pl/wydarzenie/festyn-w-ksiazu-slaskim-wystepy-studia-piosenki-rezonans/
CATEGORIES:Kalendarz imprez,Scena
END:VEVENT
BEGIN:VEVENT
DTSTART;VALUE=DATE:20210924
DTEND;VALUE=DATE:20210926
DTSTAMP:20260423T141306
CREATED:20210921T063043Z
LAST-MODIFIED:20211024T172408Z
UID:10050-1632441600-1632614399@www.mdk-zgora.pl
SUMMARY:Ogólnopolski Festiwal Tańca MOVE
DESCRIPTION:Stowarzyszenie Ośrodek Praktyk Choreograficznych oraz Młodzieżowe Centrum Kultury i Edukacji „Dom Harcerza” w Zielonej Górze zapraszają na Ogólnopolski Festiwal Tańca MOVE Zielona Góra\, który odbędzie się w terminie 24-25 września.\nMyśl przewodnia na ten rok to „generations | pokolenia”.\nHasło jest dla nas otwarciem inspiracyjnym do spotkania artystów\, krytyków i kuratorów będących świadkami różnych etapów rozwoju polskiego tańca współczesnego. Pragniemy\, aby na scenie zaprezentowali się zarówno twórcy z wieloletnim doświadczeniem\, scenicznym jak i pedagogicznym oraz przedstawiciele młodego pokolenia realizujący autorskie inicjatywy artystyczne.\nPodczas dwóch dni festiwalowych\, 24-25 września o godzinie 18.00\, na kameralnej scenie w Młodzieżowym Centrum Kultury i Edukacji „Dom Harcerza” zaprezentują się uznani artyści tańca z całej Polski:\nEliza Hołubowska (Gryfino)\nIwona Wojnicka (Warszawa)\nPaweł Matyasik (Zielona Góra)\nAgnieszka Chmielnik (Słupsk)\nGrupa Teatru Tańca (Toruń)\nPrzestrzeń Ruchu (Tarnowskie Góry)\nTeatr Tańca Enza (Słupsk)\nGliwicki Teatr Tańca (Gliwice)\nTeatr Ruchu (Świebodzin)\nTeatr Tańca Ego Vu (Gryfino)\nPhysical ArtHouse (Zielona Góra)\nW formule galeryjnej zaprezentujemy filmy taneczne autorstwa Alicji Miszczor\, Anny Bajjou\, TO-EN Butoh Company\, Trio z Rio Universe oraz Radosława Bajona.\nGośćmi specjalnymi wydarzenia będą:\nAnna Królica – kuratorka\, krytyczka\, badaczka i autorka licznych publikacji o tańcu;\nMarta Seredyńska – badaczka tańca\, recenzentka związana m.in. z czasopismem „Taniec”\, autorka publikacji naukowych o tańcu i bloga „tańczę słowem” https://martaseredynska.wordpress.com/;\nAdam Kamiński – kurator\, animator kultury\, dyrektor Mandala Performance Festival we Wrocławiu.\nW ramach działań festiwalowych odbędą się także spotkania z publicznością oraz debata środowiska tanecznego\, które moderować będzie Marta Seredyńska. Warsztaty poprowadzi Iwona Wojnicka.\nWstęp na wydarzenie jest bezpłatny. Obowiązują wejściówki lub rezerwacja miejsc u organizatorów w związku z obostrzeniami sanitarnymi.
URL:https://www.mdk-zgora.pl/wydarzenie/ogolnopolski-festiwal-tanca-move/
CATEGORIES:Kalendarz imprez,Scena
ATTACH;FMTTYPE=image/jpeg:https://www.mdk-zgora.pl/wp-content/uploads/2021/09/Scan_20210921_084004.jpg
END:VEVENT
BEGIN:VEVENT
DTSTART;VALUE=DATE:20200426
DTEND;VALUE=DATE:20200427
DTSTAMP:20260423T141306
CREATED:20200417T082405Z
LAST-MODIFIED:20200417T082405Z
UID:7530-1587859200-1587945599@www.mdk-zgora.pl
SUMMARY:WPPD
DESCRIPTION:XX edycja Światowego Dnia Fotografii Otworkowej \n 
URL:https://www.mdk-zgora.pl/wydarzenie/wppd/
END:VEVENT
BEGIN:VEVENT
DTSTART;TZID=Europe/Warsaw:20200122T163000
DTEND;TZID=Europe/Warsaw:20200122T180000
DTSTAMP:20260423T141306
CREATED:20200122T103411Z
LAST-MODIFIED:20200122T103411Z
UID:6617-1579710600-1579716000@www.mdk-zgora.pl
SUMMARY:Bal karnawałowy 2020
DESCRIPTION:Zapraszamy wszystkie dzieci na Bal Karnawałowy! Bawimy się 22.01.2020r. od 16:30-18:00.
URL:https://www.mdk-zgora.pl/wydarzenie/bal-karnawalowy-2020/
CATEGORIES:Kalendarz imprez,Scena
ATTACH;FMTTYPE=image/jpeg:https://www.mdk-zgora.pl/wp-content/uploads/2020/01/83061262_2591619927717736_2145458034049024000_o.jpg
END:VEVENT
BEGIN:VEVENT
DTSTART;TZID=Europe/Warsaw:20191211T160000
DTEND;TZID=Europe/Warsaw:20191211T180000
DTSTAMP:20260423T141306
CREATED:20191204T095357Z
LAST-MODIFIED:20191204T101121Z
UID:6279-1576080000-1576087200@www.mdk-zgora.pl
SUMMARY:Kiermasz "Świąteczne Podarunki"
DESCRIPTION:
URL:https://www.mdk-zgora.pl/wydarzenie/kiermasz-swiateczne-podarunki/
CATEGORIES:Kalendarz imprez,Scena
ATTACH;FMTTYPE=image/jpeg:https://www.mdk-zgora.pl/wp-content/uploads/2019/12/IMG_0882.jpg
END:VEVENT
BEGIN:VEVENT
DTSTART;TZID=Europe/Warsaw:20191207T100000
DTEND;TZID=Europe/Warsaw:20191207T150000
DTSTAMP:20260423T141306
CREATED:20191127T094414Z
LAST-MODIFIED:20191127T094432Z
UID:6221-1575712800-1575730800@www.mdk-zgora.pl
SUMMARY:Świąteczny piknik z ekonomią społeczną w tle
DESCRIPTION:Świąteczny Piknik z ekonomią społeczną tle
URL:https://www.mdk-zgora.pl/wydarzenie/swiateczny-piknik-z-ekonomia-spoleczna-w-tle/
ATTACH;FMTTYPE=image/jpeg:https://www.mdk-zgora.pl/wp-content/uploads/2019/11/baner-owes.jpg
END:VEVENT
BEGIN:VEVENT
DTSTART;VALUE=DATE:20191121
DTEND;VALUE=DATE:20191122
DTSTAMP:20260423T141306
CREATED:20191119T102737Z
LAST-MODIFIED:20191119T103921Z
UID:6135-1574294400-1574380799@www.mdk-zgora.pl
SUMMARY:PREMIERY 2019 Pracownia Teatru Tańca
DESCRIPTION:Z A P R A S Z A M Y\nPREMIERY 2019\nPracownia Teatru Tańca \n21 listopada o godzinie 18.00 w Lubuskim Teatrze zaprezentuje się Pracownia Teatru Tańca działająca w strukturach Młodzieżowego Centrum Kultury i Edukacji w Zielonej Górze pod kierunkiem artystycznym Marka Zadłużnego – choreografa\, dyplomowanego artysty tancerza\, pedagoga i teoretyka tańca. \nW ramach prezentacji premierowych publiczności zaprezentowane zostaną dwa spektakle: \n„National Anthem” – w wykonaniu Pracowni Teatru Tańca_adepts w choreografii Marka Zadłużnego i Radosława Bajona \noraz \n„Happiness|Happiless” – w wykonaniu zespołu repertuarowego Pracowni Teatru Tańca działającego pod kierunkiem artystycznym Marka Zadłużnego \nWstęp na wydarzenie jest bezpłatny !!!\nJednocześnie informujemy\, że przed spektaklami\, we foyer Lubuskiego Teatru\, będzie można nabyć cegiełki\, z których darowizna zostanie w całości przeznaczona na rozwój Pracowni Teatru Tańca. \nEstetyka Pracowni Teatru Tańca zderza w sobie nurty minimalizmu i ruchu organicznego charakterystyczne dla teatru fizycznego oraz wybranych technik tańca współczesnego. Jednocześnie bazuje na fundamencie improwizacji strukturalnej\, co stanowi o autorskim\, dynamicznym i mocnym stylu choreografii kreowanych przez zespół. Spektakle są zawsze wynikiem twórczej\, kolektywnej współpracy i łączą różne języki komunikacji przez sztukę. Zespół repertuarowy liczy obecnie osiem osób związanych profesjonalnie ze sztuką teatru tańca i już od dziewięciu lat prezentuje swoje spektakle na wielu prestiżowych festiwalach artystycznych w Polsce i za granicą. \nW podsumowaniu sezonu artystycznego w 2016 roku Pracownia Teatru Tańca została uznana przez Dziennik Teatralny za jeden z najlepiej zapowiadających się niezależnych zespołów teatralnych. \nPracownia Teatru Tańca jako jedyny zespół artystyczny z województwa lubuskiego został wytypowany do powstającej Polskiej Kroniki Tańca\, która jest inicjatywą Instytutu Muzyki i Tańca. \nGłówny Organizator:\nMłodzieżowe Centrum Kultury i Edukacji „Dom Harcerza” im. J. Korczaka w Zielonej Górze \nPartnerzy:\nOśrodek Praktyk Choreograficznych\nLubuski Teatr\nStowarzyszenie Akrobatyki Sportowej w Zielonej Górze \nPatroni Medialni:\nDziennik Teatralny\nPortal taniecpolska[pl] – cały polski taniec\nCzasopismo TANIEC \n 
URL:https://www.mdk-zgora.pl/wydarzenie/premiery-2019-pracownia-teatru-tanca/
LOCATION:Zielona Góra
CATEGORIES:Kalendarz imprez,Scena
ATTACH;FMTTYPE=image/jpeg:https://www.mdk-zgora.pl/wp-content/uploads/2019/11/plakat.jpg
END:VEVENT
BEGIN:VEVENT
DTSTART;TZID=Europe/Warsaw:20191106T180000
DTEND;TZID=Europe/Warsaw:20191106T180000
DTSTAMP:20260423T141306
CREATED:20191105T221435Z
LAST-MODIFIED:20191105T221617Z
UID:6099-1573063200-1573063200@www.mdk-zgora.pl
SUMMARY:Wojna
DESCRIPTION:Spektakl „W O J N A”\nw wykonaniu teatru „Trach…!” \nśroda\, 5 listopada\, godzina 18.00 \n\nScena MCKiE „Dom Harcerza”\nZielona Góra\, Wyszyńskiego 19 a \nZapraszamy!
URL:https://www.mdk-zgora.pl/wydarzenie/wojna/
CATEGORIES:Kalendarz imprez,Scena
ATTACH;FMTTYPE=image/jpeg:https://www.mdk-zgora.pl/wp-content/uploads/2019/11/Mapa-bitowa-w-Rysunek1.jpg
END:VEVENT
BEGIN:VEVENT
DTSTART;TZID=Europe/Warsaw:20191024T170000
DTEND;TZID=Europe/Warsaw:20191024T233000
DTSTAMP:20260423T141306
CREATED:20190508T153853Z
LAST-MODIFIED:20190522T122853Z
UID:3708-1571936400-1571959800@www.mdk-zgora.pl
SUMMARY:Winne Grona – Koncert 15-lecia (wcześniej próby)
DESCRIPTION:24.10.2019r. – godz. 17:00 – Winne Grona – Koncert 15-lecia (wcześniej próby)
URL:https://www.mdk-zgora.pl/wydarzenie/winne-grona-koncert-15-lecia-wczesniej-proby/
CATEGORIES:Scena
END:VEVENT
BEGIN:VEVENT
DTSTART;TZID=Europe/Warsaw:20191002T080000
DTEND;TZID=Europe/Warsaw:20191004T170000
DTSTAMP:20260423T141306
CREATED:20190508T154013Z
LAST-MODIFIED:20191002T092929Z
UID:3713-1570003200-1570208400@www.mdk-zgora.pl
SUMMARY:XXVI Ogólnopolski Sejmik Placówek Wychowania Pozaszkolnego
DESCRIPTION:
URL:https://www.mdk-zgora.pl/wydarzenie/xxvi-ogolnopolski-sejmik-placowek-wychowania-pozaszkolnego/
CATEGORIES:Scena
END:VEVENT
BEGIN:VEVENT
DTSTART;TZID=Europe/Warsaw:20190701T100000
DTEND;TZID=Europe/Warsaw:20190823T140000
DTSTAMP:20260423T141306
CREATED:20190529T125140Z
LAST-MODIFIED:20190529T125140Z
UID:4510-1561975200-1566568800@www.mdk-zgora.pl
SUMMARY:Wakacje 2019
DESCRIPTION:Rozpoczęcie wakacji w MCKiE „Dom Harcerza”
URL:https://www.mdk-zgora.pl/wydarzenie/wakacje-2019/
CATEGORIES:Kalendarz imprez
END:VEVENT
BEGIN:VEVENT
DTSTART;TZID=Europe/Warsaw:20190615T080000
DTEND;TZID=Europe/Warsaw:20190615T170000
DTSTAMP:20260423T141306
CREATED:20190508T154112Z
LAST-MODIFIED:20190522T122859Z
UID:3720-1560585600-1560618000@www.mdk-zgora.pl
SUMMARY:Studio Piosenki „Rezonans”
DESCRIPTION:
URL:https://www.mdk-zgora.pl/wydarzenie/studio-piosenki-rezonans/
CATEGORIES:Scena
END:VEVENT
BEGIN:VEVENT
DTSTART;TZID=Europe/Warsaw:20190614T170000
DTEND;TZID=Europe/Warsaw:20190614T170000
DTSTAMP:20260423T141306
CREATED:20190527T110225Z
LAST-MODIFIED:20190527T110225Z
UID:4313-1560531600-1560531600@www.mdk-zgora.pl
SUMMARY:Koncert Studio Piosenki „Rezonans”
DESCRIPTION:
URL:https://www.mdk-zgora.pl/wydarzenie/koncert-studio-piosenki-rezonans/
CATEGORIES:Scena
END:VEVENT
BEGIN:VEVENT
DTSTART;TZID=Europe/Warsaw:20190613T163000
DTEND;TZID=Europe/Warsaw:20190613T163000
DTSTAMP:20260423T141306
CREATED:20190527T110347Z
LAST-MODIFIED:20190527T110347Z
UID:4315-1560443400-1560443400@www.mdk-zgora.pl
SUMMARY:Polirytmia - koncert
DESCRIPTION:Polirytmia godz. 16:30 – próba II akustyczna 18:00 – Koncert
URL:https://www.mdk-zgora.pl/wydarzenie/polirytmia-koncert/
CATEGORIES:Scena
END:VEVENT
BEGIN:VEVENT
DTSTART;TZID=Europe/Warsaw:20190612T180000
DTEND;TZID=Europe/Warsaw:20190612T203000
DTSTAMP:20260423T141306
CREATED:20190527T110431Z
LAST-MODIFIED:20190527T110431Z
UID:4317-1560362400-1560371400@www.mdk-zgora.pl
SUMMARY:Polirytmia - próba generalna
DESCRIPTION:Polirytmia godz. 18:00-20:30 – próba generalna
URL:https://www.mdk-zgora.pl/wydarzenie/polirytmia-proba-generalna/
CATEGORIES:Scena
END:VEVENT
BEGIN:VEVENT
DTSTART;VALUE=DATE:20190607
DTEND;VALUE=DATE:20190609
DTSTAMP:20260423T141306
CREATED:20190527T110139Z
LAST-MODIFIED:20190527T110139Z
UID:4311-1559865600-1560038399@www.mdk-zgora.pl
SUMMARY:Studio Piosenki „Rezonans”
DESCRIPTION:
URL:https://www.mdk-zgora.pl/wydarzenie/studio-piosenki-rezonans-2/
CATEGORIES:Scena
END:VEVENT
BEGIN:VEVENT
DTSTART;TZID=Europe/Warsaw:20190606T080000
DTEND;TZID=Europe/Warsaw:20190606T170000
DTSTAMP:20260423T141306
CREATED:20180626T080341Z
LAST-MODIFIED:20190606T080808Z
UID:5362-1559808000-1559840400@www.mdk-zgora.pl
SUMMARY:Warsztaty Polsko-Niemieckie
DESCRIPTION:W dniach 21\, 22\,23 czerwca w Młodzieżowym Centrum Kultury i Edukacji Dom Harcerza w  Zielonej Górze organizowaliśmy warsztaty polsko- niemieckie. Po raz kolejny gościliśmy młodzież z zaprzyjaźnionego miasta Zittau\, która pod okiem moderatorów pracowała wraz z młodzieżą z naszej placówki. Tematem przewodnim warsztatów było wykonanie lalek teatralnych\, które stały się inspiracją do wspólnej pracy nad spektaklem. Młodzież pracowała w trzech pracowniach: plastycznej\, krawieckiej i\nteatralnej. Celem projektu była integracja młodzieży polskiej i niemieckiej we wspólnych działaniach\, komunikowaniu się\, otwieranie na nowe doświadczenia\, jak również nabywanie nowych umiejętności. Młodzież poznała techniki wykonania lalek teatralnych\, rzeźby w styrodurze\, oklejanie form przestrzennych masą papierową\, tworzenie małych form za pomocą masy plastycznej\, proste projektowanie stroju\, szycie na maszynie\, animacja lalek i wspólne tworzenie spektaklu. Dodatkowymi atrakcjami było wspólne spotkanie i gra w kręgielni\, odwiedzenie Centrum Nauki Keplera i projekcja filmu\, obejrzenie wystawy prac plastycznych w Instytucie Sztuk Wizualnych w Zielonej Górze\, jak również spacer po Zielonej Górze.\n\nProjekt jest współfinansowany ze środków Europejskiego Funduszu Rozwoju Regionalnego oraz ze środków budżetu państwa w ramach Programu Współpracy INTERREG Polska-Saksonia 2014-2020
URL:https://www.mdk-zgora.pl/wydarzenie/warsztaty-polsko-niemieckie/
CATEGORIES:Kalendarz imprez
END:VEVENT
BEGIN:VEVENT
DTSTART;VALUE=DATE:20190604
DTEND;VALUE=DATE:20190605
DTSTAMP:20260423T141306
CREATED:20190527T122152Z
LAST-MODIFIED:20190527T122152Z
UID:4321-1559606400-1559692799@www.mdk-zgora.pl
SUMMARY:Turniej „wiem jak być zdrowym i bezpiecznym” dla klas III SP
DESCRIPTION:
URL:https://www.mdk-zgora.pl/wydarzenie/turniej-wiem-jak-byc-zdrowym-i-bezpiecznym-dla-klas-iii-sp/
END:VEVENT
BEGIN:VEVENT
DTSTART;TZID=Europe/Warsaw:20190601T110000
DTEND;TZID=Europe/Warsaw:20190601T140000
DTSTAMP:20260423T141306
CREATED:20190528T092802Z
LAST-MODIFIED:20190601T153215Z
UID:4372-1559386800-1559397600@www.mdk-zgora.pl
SUMMARY:Dzień dziecka w "Domu Harcerza"
DESCRIPTION:Dzień dziecka w „Domu Harcerza”\n1 czerwca od 11:00 przy Wyszyńskiego 19 a i 17 c w Zielonej Górze \nW programie – warsztaty kulinarne\, modelarskie i plastyczne\nPokaz szkółki jazdy na motorowerze\nBańki mydlane i stoiska z pracami\nOgnisko z kiełbaskami i turniej szachowy oraz wiele innych atrakcji.\nZapraszamy rodziców z dziećmi. \n 
URL:https://www.mdk-zgora.pl/wydarzenie/dzien-dziecka-w-domu-harcerza/
CATEGORIES:Kalendarz imprez
ATTACH;FMTTYPE=image/jpeg:https://www.mdk-zgora.pl/wp-content/uploads/2019/05/Dzień-Dziecka.jpg
END:VEVENT
BEGIN:VEVENT
DTSTART;VALUE=DATE:20190525
DTEND;VALUE=DATE:20190526
DTSTAMP:20260423T141306
CREATED:20190527T110510Z
LAST-MODIFIED:20190527T110510Z
UID:4319-1558742400-1558828799@www.mdk-zgora.pl
SUMMARY:Studio Piosenki „Rezonans”
DESCRIPTION:Studio Piosenki „Rezonans” – aula / Festyn w parafii św. Józefa występy
URL:https://www.mdk-zgora.pl/wydarzenie/studio-piosenki-rezonans-3/
CATEGORIES:Scena
END:VEVENT
END:VCALENDAR